BEGIN:VCALENDAR
VERSION:2.0
PRODID:-//Entrepreneurship Centre - ECPv6.15.11//NONSGML v1.0//EN
CALSCALE:GREGORIAN
METHOD:PUBLISH
X-WR-CALNAME:Entrepreneurship Centre
X-ORIGINAL-URL:https://entrepreneurship-centre.fs.de
X-WR-CALDESC:Events for Entrepreneurship Centre
REFRESH-INTERVAL;VALUE=DURATION:PT1H
X-Robots-Tag:noindex
X-PUBLISHED-TTL:PT1H
BEGIN:VTIMEZONE
TZID:Europe/London
BEGIN:DAYLIGHT
TZOFFSETFROM:+0000
TZOFFSETTO:+0100
TZNAME:BST
DTSTART:20220327T010000
END:DAYLIGHT
BEGIN:STANDARD
TZOFFSETFROM:+0100
TZOFFSETTO:+0000
TZNAME:GMT
DTSTART:20221030T010000
END:STANDARD
BEGIN:DAYLIGHT
TZOFFSETFROM:+0000
TZOFFSETTO:+0100
TZNAME:BST
DTSTART:20230326T010000
END:DAYLIGHT
BEGIN:STANDARD
TZOFFSETFROM:+0100
TZOFFSETTO:+0000
TZNAME:GMT
DTSTART:20231029T010000
END:STANDARD
BEGIN:DAYLIGHT
TZOFFSETFROM:+0000
TZOFFSETTO:+0100
TZNAME:BST
DTSTART:20240331T010000
END:DAYLIGHT
BEGIN:STANDARD
TZOFFSETFROM:+0100
TZOFFSETTO:+0000
TZNAME:GMT
DTSTART:20241027T010000
END:STANDARD
END:VTIMEZONE
BEGIN:VEVENT
DTSTART;TZID=Europe/London:20230510T183000
DTEND;TZID=Europe/London:20230510T193000
DTSTAMP:20260423T215915
CREATED:20230320T113441Z
LAST-MODIFIED:20230626T142645Z
UID:1695-1683743400-1683747000@entrepreneurship-centre.fs.de
SUMMARY:Expert Talk - Bootstrapping and KPIs by Daniel Hofinger
DESCRIPTION:Join us for an expert talk by Daniel Hofinger \nThe event is open for all FS Students and Alumni \nPlease register here \nVenue: Entrepreneurship Centre (former AI Lab)\, 4th floor\, Tower A\, Frankfurt Campus
URL:https://entrepreneurship-centre.fs.de/event/bootstrapping-and-kpis/
LOCATION:Hessen
ATTACH;FMTTYPE=image/jpeg:https://entrepreneurship-centre.fs.de/wp-content/uploads/2022/05/fs-entrepreneurship_selection_19-scaled-e1652803933491.jpg
END:VEVENT
END:VCALENDAR