BEGIN:VCALENDAR
VERSION:2.0
PRODID:-//Entrepreneurship Centre - ECPv6.15.11//NONSGML v1.0//EN
CALSCALE:GREGORIAN
METHOD:PUBLISH
X-ORIGINAL-URL:https://entrepreneurship-centre.fs.de
X-WR-CALDESC:Events for Entrepreneurship Centre
REFRESH-INTERVAL;VALUE=DURATION:PT1H
X-Robots-Tag:noindex
X-PUBLISHED-TTL:PT1H
BEGIN:VTIMEZONE
TZID:Europe/London
BEGIN:DAYLIGHT
TZOFFSETFROM:+0000
TZOFFSETTO:+0100
TZNAME:BST
DTSTART:20240331T010000
END:DAYLIGHT
BEGIN:STANDARD
TZOFFSETFROM:+0100
TZOFFSETTO:+0000
TZNAME:GMT
DTSTART:20241027T010000
END:STANDARD
BEGIN:DAYLIGHT
TZOFFSETFROM:+0000
TZOFFSETTO:+0100
TZNAME:BST
DTSTART:20250330T010000
END:DAYLIGHT
BEGIN:STANDARD
TZOFFSETFROM:+0100
TZOFFSETTO:+0000
TZNAME:GMT
DTSTART:20251026T010000
END:STANDARD
BEGIN:DAYLIGHT
TZOFFSETFROM:+0000
TZOFFSETTO:+0100
TZNAME:BST
DTSTART:20260329T010000
END:DAYLIGHT
BEGIN:STANDARD
TZOFFSETFROM:+0100
TZOFFSETTO:+0000
TZNAME:GMT
DTSTART:20261025T010000
END:STANDARD
END:VTIMEZONE
BEGIN:VEVENT
DTSTART;TZID=Europe/London:20250630T180000
DTEND;TZID=Europe/London:20250901T210000
DTSTAMP:20260422T024829
CREATED:20250610T115728Z
LAST-MODIFIED:20250902T112841Z
UID:3011-1751306400-1756760400@entrepreneurship-centre.fs.de
SUMMARY:Open Workshops | FS Accelerator Summer'25
DESCRIPTION:Upcoming open workshops you can’t miss. \nJoin us for a series of essential workshops designed to elevate your startup journey! Whether you’re looking to master financial planning\, dive deep into intellectual property matters\, or perfect your pitch\, these sessions offer unparalleled insights from top industry experts. Click on each workshop for more details and secure your spot today. \nTO REGISTER\, please click the workshops individually. \n\n\n\n\n\n\n\n\n\n\n\nNegotiating a VC Term Sheet\nMonday\, June 30\, 2025\n19:00 – 20:30\nOnline\n\n\nFinancial Planning and Fundraising for startups\nWednesday\, July 2\, 2025\n18:00 – 19:30\nOnline\n\n\nFundraising Tips and Insights\nMonday\, August 18\, 2025\n17:00 – 18:00\nOnline\n\n\nIntellectual Property (IP) matters for Startups\nWednesday\, August 20\, 2025\n17:00 – 18:00\nOnline\n\n\nNail your Pitch!\nMonday\, August 25\, 2025\n17:00 – 18:30\nOnline\n\n\n\n\n*more workshops are coming up soon \n\n\n\nImportant notes: \n\nThis series of events is open to all students and alumni of Frankfurt School and visitors joining in from our partnering universities.\nIn case event details change (time\, date\, etc.)\, we will notify you timely via email.
URL:https://entrepreneurship-centre.fs.de/event/open-workshops-fs-accelerator-summer25/
LOCATION:Hessen
CATEGORIES:Accelerator
ATTACH;FMTTYPE=image/jpeg:https://entrepreneurship-centre.fs.de/wp-content/uploads/2024/05/CO-FOUNDER-WANTED-4.0-89-scaled.jpg
END:VEVENT
BEGIN:VEVENT
DTSTART;TZID=Europe/London:20250901T183000
DTEND;TZID=Europe/London:20250901T220000
DTSTAMP:20260422T024829
CREATED:20250709T103928Z
LAST-MODIFIED:20250903T134433Z
UID:3044-1756751400-1756764000@entrepreneurship-centre.fs.de
SUMMARY:Demo Day | 1 September 2025 | Accelerator Summer '25
DESCRIPTION:Event details \nDate: 1 September 2025 \nTime: 18:30 – 22:00 \nLocation: Frankfurt School\, Audimax \nAgenda: \n18:30 – 19:00 Doors Open  \n19:00 – 19:10 Welcome Speech by Professor Dr. Nils Stieglitz\, President and Managing Director of Frankfurt School of Finance & Management   \n19:10 – 19:20 Opening Remarks by Ram Shoham\, Director of FS Entrepreneurship Centre  \n19:20 – 19:40 Keynote Speech by Eric Reutemann\, CEO & Co-Founder of Frankfurt Galaxy  \n19:40 – 20:40 6 Startup Pitches  \n20:40 – 21:00 Final Remarks and Winners Announcement  \n21:00 – 23:00 Food\, Drinks & Networking  \nSee you on-site! \nBest\, \nYour FSEC Team \nAbout this event: \n✨ What a night! ✨\n\nWe are truly overwhelmed and grateful for the incredible turnout at our Demo Day Summer ’25\, the flagship event of the Frankfurt School Entrepreneurship Centre at the Frankfurt School of Finance & Management. Never before have we seen such an engaged audience — thank you all for being part of it! 🙏\n\nA huge thank you goes to our partners\, mentors\, and supporters who worked with us over the past weeks to prepare the startups for the stage. And a special thanks to all the jurors David Schäffler\, Max Bergmann\, Jovana Walter\, CFA\, Roger Dorsch who joined us and took the time to evaluate the pitches — your expertise and support mean so much to our founders. Thanks to Eric Reutemann for his inspiring keynote speech!\n\n👏 Congratulations to our winning startups\, who together received €50\,000 in prize money:\n🏆 TwinWatt — developing compact\, efficient wind turbines that generate power even at low wind speeds\, making renewable energy more accessible for urban and industrial settings.\n🥈 NovaVoca Technologies GmbH — building AI-powered voice agents that automate customer experiences in 40+ languages\, helping enterprises deliver secure\, human-like interactions across industries.\n\nAnd of course\, applause to all six startups that pitched — your energy\, vision\, and courage on stage were inspiring: Typelense AI\, RentalOne\, Syntropix\, GEM – Green Estate Management GmbH \n\nThis is only the beginning. 🚀 We’re already looking forward to the next Demo Day\, and in the meantime\, we have many exciting events planned to keep building\, connecting\, and celebrating entrepreneurship together.\n\n🏄🏻‍♂️ Ram Shoham 🌱🚀 Gowtham Athem Nils Troeger Kristina Savina\nhashtag#frankfurtschool hashtag#demoday
URL:https://entrepreneurship-centre.fs.de/event/demo-day-1-september-2025-accelerator-summer-25/
LOCATION:Hessen
CATEGORIES:Event,Past Events (Home Page Display)
ATTACH;FMTTYPE=image/jpeg:https://entrepreneurship-centre.fs.de/wp-content/uploads/2025/07/FS_04046.jpg
END:VEVENT
END:VCALENDAR