BEGIN:VCALENDAR
VERSION:2.0
PRODID:-//Entrepreneurship Centre - ECPv6.15.11//NONSGML v1.0//EN
CALSCALE:GREGORIAN
METHOD:PUBLISH
X-ORIGINAL-URL:https://entrepreneurship-centre.fs.de
X-WR-CALDESC:Events for Entrepreneurship Centre
REFRESH-INTERVAL;VALUE=DURATION:PT1H
X-Robots-Tag:noindex
X-PUBLISHED-TTL:PT1H
BEGIN:VTIMEZONE
TZID:Europe/Berlin
BEGIN:DAYLIGHT
TZOFFSETFROM:+0100
TZOFFSETTO:+0200
TZNAME:CEST
DTSTART:20230326T010000
END:DAYLIGHT
BEGIN:STANDARD
TZOFFSETFROM:+0200
TZOFFSETTO:+0100
TZNAME:CET
DTSTART:20231029T010000
END:STANDARD
BEGIN:DAYLIGHT
TZOFFSETFROM:+0100
TZOFFSETTO:+0200
TZNAME:CEST
DTSTART:20240331T010000
END:DAYLIGHT
BEGIN:STANDARD
TZOFFSETFROM:+0200
TZOFFSETTO:+0100
TZNAME:CET
DTSTART:20241027T010000
END:STANDARD
BEGIN:DAYLIGHT
TZOFFSETFROM:+0100
TZOFFSETTO:+0200
TZNAME:CEST
DTSTART:20250330T010000
END:DAYLIGHT
BEGIN:STANDARD
TZOFFSETFROM:+0200
TZOFFSETTO:+0100
TZNAME:CET
DTSTART:20251026T010000
END:STANDARD
END:VTIMEZONE
BEGIN:VEVENT
DTSTART;TZID=Europe/Berlin:20240902T183000
DTEND;TZID=Europe/Berlin:20240902T220000
DTSTAMP:20260422T121903
CREATED:20240611T141630Z
LAST-MODIFIED:20240923T143543Z
UID:2499-1725301800-1725314400@entrepreneurship-centre.fs.de
SUMMARY:Demo Day | 2 September 2024 | Accelerator Summer '24
DESCRIPTION:It is this time of the year! \nDear FSEC Network\, \nwe are delighted to invite you to the upcoming Demo Day\, scheduled for 2nd September 2024 at 18:30 in Frankfurt. \nThis event is an exclusive opportunity to celebrate innovation and entrepreneurship in the Frankfurt School style and connect with the most relevant professionals in the German startup ecosystem. \n  \nEvent details \nDate: 2 September 2024 \nTime: 18:30 – 22:00 \nLocation: Frankfurt School\, Audimax \n  \nEvent Agenda:  \n18:30 – 19:00 Doors Open \n19:00 – 19:10 Welcome Speech by Professor Dr. Nils Stieglitz\, President and Managing Director of Frankfurt School of Finance & Management \n19:10 – 19:20 Opening Remarks by Ram Shoham\, Director of FS Entrepreneurship Centre \n19:20 – 19:40 Keynote Speech by Helmut Schönenberger\, CEO UnternehmerTUM \n19:40 – 20:40 6 Startup Pitches \n20:40 – 21:00 Final Remarks and group picture \n21:00 – 23:00 Food\, Drinks & Networking \n  \nSee you on-site! \nBest\, \nYour FSEC Team \n  \nAbout this past event: \nA big congratulations to all the startups\, especially the prize winners Aybee and runner-up Newbee App. Also a heartfelt thank you to all the investors.\n\nLast Monday’s demo day drew over 400 attendees\, including a keynote speech from Dr. Prof. Helmut Schoenenberger. Helmut has been one of my personal inspirations since I first arrived in Germany twelve years ago\, and I always knew that one day\, he would know my name. That day has finally come. A huge thank you to Helmut and his team for sharing your career journey with all of us at Frankfurt School of Finance & Management.\n\nHere is a short recap on the standout teams:\nAybee: Builds the leading A/B testing platform for marketplaces\, enabling the best product launches.\nPromodoro: Innovates by placing tasteful advertising on pizza boxes\, turning an everyday item into a unique marketing opportunity.\ngreen account: Creates Europe’s premier nature trading platform\, ensuring transparent\, standardized\, and secure investments in nature and biodiversity.\nCeres FieldCheck: Empowers small-scale farmers in developing countries with affordable AI robots\, assisting in chemical-free weeding and disease detection.\nFreeze Carbon: Develops a B2B online marketplace for high-quality carbon credits\, promoting sustainable business practices.\nNewbee App: Builds a unified platform for newcomers to discover their community and access assistant services in their native language.\n\nIf you’re interested in collaborating or learning more about our journey\, let’s connect! \nREGISTER HERE
URL:https://entrepreneurship-centre.fs.de/event/demo-day-2-september-2024-accelerator-summer-24/
LOCATION:Frankfurt School Audimax\, Adickesallee 32-34\, Frankfurt am Main\, Hesse\, 60322\, Germany
CATEGORIES:Past Events (Home Page Display)
ATTACH;FMTTYPE=image/jpeg:https://entrepreneurship-centre.fs.de/wp-content/uploads/2024/06/DSC01391-scaled.jpg
END:VEVENT
END:VCALENDAR