BEGIN:VCALENDAR
VERSION:2.0
PRODID:-//Entrepreneurship Centre - ECPv6.15.11//NONSGML v1.0//EN
CALSCALE:GREGORIAN
METHOD:PUBLISH
X-WR-CALNAME:Entrepreneurship Centre
X-ORIGINAL-URL:https://entrepreneurship-centre.fs.de
X-WR-CALDESC:Events for Entrepreneurship Centre
REFRESH-INTERVAL;VALUE=DURATION:PT1H
X-Robots-Tag:noindex
X-PUBLISHED-TTL:PT1H
BEGIN:VTIMEZONE
TZID:Europe/London
BEGIN:DAYLIGHT
TZOFFSETFROM:+0000
TZOFFSETTO:+0100
TZNAME:BST
DTSTART:20240331T010000
END:DAYLIGHT
BEGIN:STANDARD
TZOFFSETFROM:+0100
TZOFFSETTO:+0000
TZNAME:GMT
DTSTART:20241027T010000
END:STANDARD
BEGIN:DAYLIGHT
TZOFFSETFROM:+0000
TZOFFSETTO:+0100
TZNAME:BST
DTSTART:20250330T010000
END:DAYLIGHT
BEGIN:STANDARD
TZOFFSETFROM:+0100
TZOFFSETTO:+0000
TZNAME:GMT
DTSTART:20251026T010000
END:STANDARD
BEGIN:DAYLIGHT
TZOFFSETFROM:+0000
TZOFFSETTO:+0100
TZNAME:BST
DTSTART:20260329T010000
END:DAYLIGHT
BEGIN:STANDARD
TZOFFSETFROM:+0100
TZOFFSETTO:+0000
TZNAME:GMT
DTSTART:20261025T010000
END:STANDARD
END:VTIMEZONE
BEGIN:VEVENT
DTSTART;TZID=Europe/London:20250508T180000
DTEND;TZID=Europe/London:20250509T170000
DTSTAMP:20260422T012424
CREATED:20250331T130715Z
LAST-MODIFIED:20250711T134531Z
UID:2950-1746727200-1746810000@entrepreneurship-centre.fs.de
SUMMARY:Co-founder wanted 6.0
DESCRIPTION:The 6th Edition of the Co-founder wanted event by Frankfurt School Entrepreneurship Centre! \nWe’re expanding and partnering with even more prestigious universities to bring you the 6th Edition of the Co-founder Wanted event! \nThis year\, we’re proud to team up with top institutions like TU Dresden\, Heidelberg University\, JGU Mainz\, TU Darmstadt\, HFG Offenbach and more – making it our biggest collaboration yet! \nThis event is your opportunity to find your perfect match. Are you looking for a business mind to join your team? Or are you in search of a talented coder to develop the back-end for an App? This event is for you! \nJoin us on-site and pitch your idea to the audience. \nNot ready to pitch your idea but looking for a team to join? Register now and find your future co-founders in the crowd. \nMore event details will be announced shortly via our social media channels and the Reminder email nearer the event date. \nAgenda: two days event \nMay 8th:  \n18:00 – open end  \nx Idea pitching (1min. Open Microphone to anyone). \nx Getting to know each other over light food and beer \nx Voting for top ideas \nx Picking the teams \nMay 9th:  \n9:00 – 17:00 \nx Executive presentation \nx Teambuilding Action \nx Coaching sessions \nx Workphase \nx Reflection \nx Pitch Final and Winner \nNetworking x ideas matching x drinks!  \nLocation: Frankfurt School\, Entrepreneurship Centre\, 4th Floor\, Tower A \nAdickesallee 32-34\, 60322 Frankfurt am Main \nQuestions left? Entrepreneurship@fs.de \nREGISTER HERE
URL:https://entrepreneurship-centre.fs.de/event/co-founder-wanted-6-0/
LOCATION:Hessen
CATEGORIES:Past Events (Home Page Display)
ATTACH;FMTTYPE=image/png:https://entrepreneurship-centre.fs.de/wp-content/uploads/2025/03/CFW_08-09.05.2025.png
END:VEVENT
END:VCALENDAR