BEGIN:VCALENDAR
VERSION:2.0
PRODID:-//Entrepreneurship Centre - ECPv6.15.11//NONSGML v1.0//EN
CALSCALE:GREGORIAN
METHOD:PUBLISH
X-ORIGINAL-URL:https://entrepreneurship-centre.fs.de
X-WR-CALDESC:Events for Entrepreneurship Centre
REFRESH-INTERVAL;VALUE=DURATION:PT1H
X-Robots-Tag:noindex
X-PUBLISHED-TTL:PT1H
BEGIN:VTIMEZONE
TZID:Europe/Berlin
BEGIN:DAYLIGHT
TZOFFSETFROM:+0100
TZOFFSETTO:+0200
TZNAME:CEST
DTSTART:20240331T010000
END:DAYLIGHT
BEGIN:STANDARD
TZOFFSETFROM:+0200
TZOFFSETTO:+0100
TZNAME:CET
DTSTART:20241027T010000
END:STANDARD
BEGIN:DAYLIGHT
TZOFFSETFROM:+0100
TZOFFSETTO:+0200
TZNAME:CEST
DTSTART:20250330T010000
END:DAYLIGHT
BEGIN:STANDARD
TZOFFSETFROM:+0200
TZOFFSETTO:+0100
TZNAME:CET
DTSTART:20251026T010000
END:STANDARD
BEGIN:DAYLIGHT
TZOFFSETFROM:+0100
TZOFFSETTO:+0200
TZNAME:CEST
DTSTART:20260329T010000
END:DAYLIGHT
BEGIN:STANDARD
TZOFFSETFROM:+0200
TZOFFSETTO:+0100
TZNAME:CET
DTSTART:20261025T010000
END:STANDARD
END:VTIMEZONE
BEGIN:VEVENT
DTSTART;TZID=Europe/Berlin:20250917T183000
DTEND;TZID=Europe/Berlin:20250917T203000
DTSTAMP:20260421T182458
CREATED:20250902T112216Z
LAST-MODIFIED:20250929T105127Z
UID:3063-1758133800-1758141000@entrepreneurship-centre.fs.de
SUMMARY:Open Workshop with Garan Goodman & Community Get-Together
DESCRIPTION:We are excited to invite you to an open workshop with Garan Goodman on 17th September at 18:30. \n\n\n\n\n\n\n\n\n\n\nTopic: Product Market Fit (PMF) Now. Business Model Later \nEvery startup dreams of scale — but before growth comes the grind of Product-Market Fit (PMF). In this hands-on workshop\, we’ll cut through the noise and show why PMF is the ultimate proxy for a sustainable business model. Learn how to test if customers truly love your product\, spot signals of PMF\, and translate traction into a business model investors respect. Expect case studies\, group exercises\, and straight talk on what works (and what breaks) when scaling. This is where founders move from guessing to knowing. \nCome by to see our new space! \nLocation: Entrepreneurship Centre\, Presidialbau\, 1st Floor \n\n\n\n\n\n\n\n\n\n\nPizza & beer are on us 😉 \nQuestions left? Email at Entrepreneurship@fs.de \nAbout this past event: \n✨ First event in our new space! ✨\nA big thank you to Garan Goodman for leading such an insightful workshop on Product-Market-Fit. We’re truly grateful to kick things off with your expertise and energy!\n\nThis is just the beginning — more workshops and community gatherings are on the way. 🚀\n\nStay tuned and check our website for upcoming events here: \nhttps://lnkd.in/ewyYuXNQ \n 
URL:https://entrepreneurship-centre.fs.de/event/open-workshop-with-garan-goodman-community-get-together/
LOCATION:Entrepreneurship Centre\, Adickesallee 32-34\, Frankfurt am Main\, Hessen\, 60322
CATEGORIES:Past Events (Home Page Display)
ATTACH;FMTTYPE=image/jpeg:https://entrepreneurship-centre.fs.de/wp-content/uploads/2025/09/S1.01-34.jpg
END:VEVENT
END:VCALENDAR