BEGIN:VCALENDAR
VERSION:2.0
PRODID:-//Entrepreneurship Centre - ECPv6.15.11//NONSGML v1.0//EN
CALSCALE:GREGORIAN
METHOD:PUBLISH
X-ORIGINAL-URL:https://entrepreneurship-centre.fs.de
X-WR-CALDESC:Events for Entrepreneurship Centre
REFRESH-INTERVAL;VALUE=DURATION:PT1H
X-Robots-Tag:noindex
X-PUBLISHED-TTL:PT1H
BEGIN:VTIMEZONE
TZID:Europe/London
BEGIN:DAYLIGHT
TZOFFSETFROM:+0000
TZOFFSETTO:+0100
TZNAME:BST
DTSTART:20220327T010000
END:DAYLIGHT
BEGIN:STANDARD
TZOFFSETFROM:+0100
TZOFFSETTO:+0000
TZNAME:GMT
DTSTART:20221030T010000
END:STANDARD
BEGIN:DAYLIGHT
TZOFFSETFROM:+0000
TZOFFSETTO:+0100
TZNAME:BST
DTSTART:20230326T010000
END:DAYLIGHT
BEGIN:STANDARD
TZOFFSETFROM:+0100
TZOFFSETTO:+0000
TZNAME:GMT
DTSTART:20231029T010000
END:STANDARD
BEGIN:DAYLIGHT
TZOFFSETFROM:+0000
TZOFFSETTO:+0100
TZNAME:BST
DTSTART:20240331T010000
END:DAYLIGHT
BEGIN:STANDARD
TZOFFSETFROM:+0100
TZOFFSETTO:+0000
TZNAME:GMT
DTSTART:20241027T010000
END:STANDARD
END:VTIMEZONE
BEGIN:VTIMEZONE
TZID:Europe/Berlin
BEGIN:DAYLIGHT
TZOFFSETFROM:+0100
TZOFFSETTO:+0200
TZNAME:CEST
DTSTART:20220327T010000
END:DAYLIGHT
BEGIN:STANDARD
TZOFFSETFROM:+0200
TZOFFSETTO:+0100
TZNAME:CET
DTSTART:20221030T010000
END:STANDARD
BEGIN:DAYLIGHT
TZOFFSETFROM:+0100
TZOFFSETTO:+0200
TZNAME:CEST
DTSTART:20230326T010000
END:DAYLIGHT
BEGIN:STANDARD
TZOFFSETFROM:+0200
TZOFFSETTO:+0100
TZNAME:CET
DTSTART:20231029T010000
END:STANDARD
BEGIN:DAYLIGHT
TZOFFSETFROM:+0100
TZOFFSETTO:+0200
TZNAME:CEST
DTSTART:20240331T010000
END:DAYLIGHT
BEGIN:STANDARD
TZOFFSETFROM:+0200
TZOFFSETTO:+0100
TZNAME:CET
DTSTART:20241027T010000
END:STANDARD
END:VTIMEZONE
BEGIN:VEVENT
DTSTART;TZID=Europe/London:20230116T140000
DTEND;TZID=Europe/London:20230207T170000
DTSTAMP:20260424T005940
CREATED:20230112T133303Z
LAST-MODIFIED:20231206T141505Z
UID:1638-1673877600-1675789200@entrepreneurship-centre.fs.de
SUMMARY:Open Workshops - FS Accelerator
DESCRIPTION:Throughout our accelerator\, we are holding workshops open for all students and alumni of Frankfurt School. They will all be held in the AI Lab\, which is on the 4th floor\, tower A of the Frankfurt campus. No registration is required. \nNote: FS Students and Alumni Only \n\n\n\n\n\n\n\n\n16 January 2023\n14:00 – 17:00\nAnna Lena Drewitz\nDesign Thinking\n\n\n17 January 2023\n09:15 – 10:00\nExpert Talk: Matiullah Rahamaty\nProduct Development and GTM\n\n\n18 January 2023\n09:15 – 10:00\nExpert Talk: Anne Vallersnes\nESG\n\n\n23 January 2023\n10:00 – 12:00\nDafna Gold Melchior\nPitching/ Communication\n\n\n24 January 2023\n09:15 – 10:00\nPeter Grouev – Tapline VC\nFund Presentation\n\n\n25 January 2023\n09:15 – 10:00\nExpert Talk – Wen-Hao\, GMP VC\nSeed Funding Approach\n\n\n25 January 2023\n14:00 – 15:30\nThomas Claussen\nStartup Financial Planning\n\n\n30 January 2023\n10:00 – 12:00\nFriedrich Kammerlander\nAgile for Startups\n\n\n31 January 2023\n09:15 – 10:00\nFabian Landscheidt\, Vossius Legal\nIP and TM\n\n\n31 January 2023\n10:00 – 12:00\nFPS\nConvertible Note/ Termsheets\n\n\n01 February 2023\n09:30 – 10:30\nExpert Talk – Nikolai Grüner\nMetaphysics of Entrepreneurship\n\n\n01 February 2023\n11:00 – 13:00\nSven Greulich\, Orrick Legal\nESOP’s and VSOP’s\n\n\n06 February 2023\n10:00 – 12:00\nReuven Ulmansky\nTips on preparation before meeting a VC\n\n\n06 February 2023\n14:00 – 15:00\nMichael Mizrahi\nEvaluation of  Early Stage Startups\n\n\n07 February 2023\n14:00 – 15:30\nLirone Glickman\nSales Training\n\n\n\n 
URL:https://entrepreneurship-centre.fs.de/event/open-workshops/
LOCATION:Hessen
ATTACH;FMTTYPE=image/jpeg:https://entrepreneurship-centre.fs.de/wp-content/uploads/2022/05/DSC07334-scaled.jpg
END:VEVENT
BEGIN:VEVENT
DTSTART;TZID=Europe/Berlin:20230208T180000
DTEND;TZID=Europe/Berlin:20230208T220000
DTSTAMP:20260424T005940
CREATED:20220815T080226Z
LAST-MODIFIED:20230112T185022Z
UID:1232-1675879200-1675893600@entrepreneurship-centre.fs.de
SUMMARY:Demo Day | FS Accelerator
DESCRIPTION:The Demo Day for the Frankfurt School Entrepreneurship Centre’s accelerator program is an exciting opportunity for you to see firsthand the progress and potential of the participating startups. These companies represent the future of Frankfurt’s startup scene\, and their success will have a positive impact on the city’s growing business community. \nThis event marks the start of a new chapter for the startup ecosystem in Frankfurt\, one filled with potential and promise. We encourage all journalists to join us in celebrating this exciting moment and witness the next wave of successful startups being born right here in the city. \n\n18:30 – 19:00      Doors Open \n19:00 – 19:10      Welcome Speech by Angelika Werner \n19:10 – 19:20      Opening Remarks by Ram Shoham \n19:20 – 19:40      Keynote speech by Sebastian Merkoffer \n19:40 – 20:40      Startup Pitches \n20:40 – 23:00      Food\, Drinks & Networking \n\nStay tuned on our instagram \nVenue: Audimax \nRegister HereDisclaimer: We hold to right to refuse any application.
URL:https://entrepreneurship-centre.fs.de/event/accelerator/
LOCATION:Hessen
CATEGORIES:Accelerator
END:VEVENT
END:VCALENDAR