BEGIN:VCALENDAR
VERSION:2.0
PRODID:-//Entrepreneurship Centre - ECPv6.15.11//NONSGML v1.0//EN
CALSCALE:GREGORIAN
METHOD:PUBLISH
X-ORIGINAL-URL:https://entrepreneurship-centre.fs.de
X-WR-CALDESC:Events for Entrepreneurship Centre
REFRESH-INTERVAL;VALUE=DURATION:PT1H
X-Robots-Tag:noindex
X-PUBLISHED-TTL:PT1H
BEGIN:VTIMEZONE
TZID:Europe/London
BEGIN:DAYLIGHT
TZOFFSETFROM:+0000
TZOFFSETTO:+0100
TZNAME:BST
DTSTART:20220327T010000
END:DAYLIGHT
BEGIN:STANDARD
TZOFFSETFROM:+0100
TZOFFSETTO:+0000
TZNAME:GMT
DTSTART:20221030T010000
END:STANDARD
BEGIN:DAYLIGHT
TZOFFSETFROM:+0000
TZOFFSETTO:+0100
TZNAME:BST
DTSTART:20230326T010000
END:DAYLIGHT
BEGIN:STANDARD
TZOFFSETFROM:+0100
TZOFFSETTO:+0000
TZNAME:GMT
DTSTART:20231029T010000
END:STANDARD
BEGIN:DAYLIGHT
TZOFFSETFROM:+0000
TZOFFSETTO:+0100
TZNAME:BST
DTSTART:20240331T010000
END:DAYLIGHT
BEGIN:STANDARD
TZOFFSETFROM:+0100
TZOFFSETTO:+0000
TZNAME:GMT
DTSTART:20241027T010000
END:STANDARD
END:VTIMEZONE
BEGIN:VEVENT
DTSTART;TZID=Europe/London:20230308T183000
DTEND;TZID=Europe/London:20230308T200000
DTSTAMP:20260423T232859
CREATED:20230228T102346Z
LAST-MODIFIED:20230627T085112Z
UID:1683-1678300200-1678305600@entrepreneurship-centre.fs.de
SUMMARY:Community Gathering
DESCRIPTION:Join us for an exciting community gathering at the Entrepreneurship Centre! This event is a great opportunity for mentors\, entrepreneurs\, and other like-minded individuals to network\, share ideas\, and build meaningful connections. \nThroughout the evening\, you’ll have the chance to meet and chat with fellow attendees\, including successful entrepreneurs who have experience in a variety of industries. You’ll also have the opportunity to connect with mentors and other professionals who can offer valuable guidance and advice. \nWhether you’re just starting out or you’re a seasoned entrepreneur\, this event is a must-attend. It’s a chance to learn from others\, exchange ideas\, and expand your network in a supportive and welcoming environment. \nDon’t miss out on this unique opportunity to connect with our community! We look forward to seeing you there. \nLocation / Venue: Entrepreneurship Centre (AI Lab)\, 4th Floor Tower A\, Frankfurt Campus
URL:https://entrepreneurship-centre.fs.de/event/community-gathering-2/
LOCATION:Hessen
ATTACH;FMTTYPE=image/jpeg:https://entrepreneurship-centre.fs.de/wp-content/uploads/2022/10/fs-entrepreneurship_selection_151920x1080.jpg
END:VEVENT
BEGIN:VEVENT
DTSTART;TZID=Europe/London:20230330T183000
DTEND;TZID=Europe/London:20230330T193000
DTSTAMP:20260423T232859
CREATED:20230320T113325Z
LAST-MODIFIED:20230626T142809Z
UID:1693-1680201000-1680204600@entrepreneurship-centre.fs.de
SUMMARY:Expert Talk - Fundraising for Founders by Dr. Marc-André Rousseau
DESCRIPTION:Join us for an expert talk by Dr. Marc-André Rousseau \nThe event is open for all FS Students and Alumni \nPlease register here \nVenue: Entrepreneurship Centre (former AI Lab)\, 4th floor\, Tower A\, Frankfurt Campus
URL:https://entrepreneurship-centre.fs.de/event/fundraising-for-founders/
LOCATION:Hessen
ATTACH;FMTTYPE=image/jpeg:https://entrepreneurship-centre.fs.de/wp-content/uploads/2022/10/fs-entrepreneurship_selection_521920x1080.jpg
END:VEVENT
END:VCALENDAR