BEGIN:VCALENDAR
VERSION:2.0
PRODID:-//Entrepreneurship Centre - ECPv6.15.11//NONSGML v1.0//EN
CALSCALE:GREGORIAN
METHOD:PUBLISH
X-WR-CALNAME:Entrepreneurship Centre
X-ORIGINAL-URL:https://entrepreneurship-centre.fs.de
X-WR-CALDESC:Events for Entrepreneurship Centre
REFRESH-INTERVAL;VALUE=DURATION:PT1H
X-Robots-Tag:noindex
X-PUBLISHED-TTL:PT1H
BEGIN:VTIMEZONE
TZID:Europe/Berlin
BEGIN:DAYLIGHT
TZOFFSETFROM:+0100
TZOFFSETTO:+0200
TZNAME:CEST
DTSTART:20220327T010000
END:DAYLIGHT
BEGIN:STANDARD
TZOFFSETFROM:+0200
TZOFFSETTO:+0100
TZNAME:CET
DTSTART:20221030T010000
END:STANDARD
BEGIN:DAYLIGHT
TZOFFSETFROM:+0100
TZOFFSETTO:+0200
TZNAME:CEST
DTSTART:20230326T010000
END:DAYLIGHT
BEGIN:STANDARD
TZOFFSETFROM:+0200
TZOFFSETTO:+0100
TZNAME:CET
DTSTART:20231029T010000
END:STANDARD
BEGIN:DAYLIGHT
TZOFFSETFROM:+0100
TZOFFSETTO:+0200
TZNAME:CEST
DTSTART:20240331T010000
END:DAYLIGHT
BEGIN:STANDARD
TZOFFSETFROM:+0200
TZOFFSETTO:+0100
TZNAME:CET
DTSTART:20241027T010000
END:STANDARD
END:VTIMEZONE
BEGIN:VEVENT
DTSTART;TZID=Europe/Berlin:20230606T110000
DTEND;TZID=Europe/Berlin:20230606T120000
DTSTAMP:20260423T183658
CREATED:20230601T155548Z
LAST-MODIFIED:20230816T192846Z
UID:1779-1686049200-1686052800@entrepreneurship-centre.fs.de
SUMMARY:Expert Talk | FS Accelerator Summer '23
DESCRIPTION:Join us for an expert talk on Pivoting by Arash Houshmand\, Founder & Director at Ampolon! \nThis is the first of four workshops from our Summer Accelerator that will be open to the entire community. \nVenue: Hybrid\nEntrepreneurship Centre\, 4th floor\, Tower A\, Frankfurt Campus\nThe online link will be shared in the confirmation & reminder emails. \nQuestions?  Email us at entrepreneurship@fs.de. \nRegister HereDisclaimer: We hold to right to refuse any application.
URL:https://entrepreneurship-centre.fs.de/event/expert-talk-summer-accelerator/
LOCATION:Hessen
CATEGORIES:Accelerator
ATTACH;FMTTYPE=image/jpeg:https://entrepreneurship-centre.fs.de/wp-content/uploads/2023/05/FS_01138.jpg
END:VEVENT
BEGIN:VEVENT
DTSTART;TZID=Europe/Berlin:20230619T100000
DTEND;TZID=Europe/Berlin:20230619T120000
DTSTAMP:20260423T183658
CREATED:20230601T154009Z
LAST-MODIFIED:20230816T191951Z
UID:1791-1687168800-1687176000@entrepreneurship-centre.fs.de
SUMMARY:Financial Planning | FS Accelerator Summer '23
DESCRIPTION:Join us for an online open workshop on Financial Planning for Startups by Thomas Claussen! \nThis is the second of four workshops from our Summer Accelerator that will be open to the entire community. \nVenue: Online\nThe online link will be shared in the confirmation & reminder emails. \nQuestions?  Email us at entrepreneurship@fs.de. \nRegister HereDisclaimer: We hold to right to refuse any application.
URL:https://entrepreneurship-centre.fs.de/event/financial-planning-summer-accelerator/
LOCATION:Online
CATEGORIES:Accelerator
ATTACH;FMTTYPE=image/jpeg:https://entrepreneurship-centre.fs.de/wp-content/uploads/2022/10/fs-entrepreneurship_selection_061920x1080.jpg
END:VEVENT
BEGIN:VEVENT
DTSTART;TZID=Europe/Berlin:20230620T100000
DTEND;TZID=Europe/Berlin:20230620T113000
DTSTAMP:20260423T183658
CREATED:20230601T155603Z
LAST-MODIFIED:20230607T140730Z
UID:1796-1687255200-1687260600@entrepreneurship-centre.fs.de
SUMMARY:ESOPs and VSOPs | FS Accelerator Summer '23
DESCRIPTION:Join us for an online open workshop on ESOPs and VSOPs by Johannes Rüberg\, Counsel at Orrick\, Herrington & Sutcliffe LLP! \nThis is the third of four workshops from our Summer Accelerator that will be open to the entire community. \nVenue: Online\nThe online link will be shared in the confirmation & reminder emails. \nQuestions?  Email us at entrepreneurship@fs.de. \nRegister Here \nDisclaimer: We hold to right to refuse any application.
URL:https://entrepreneurship-centre.fs.de/event/esops-vsops-summer-accelerator/
LOCATION:Online
CATEGORIES:Accelerator
ATTACH;FMTTYPE=image/jpeg:https://entrepreneurship-centre.fs.de/wp-content/uploads/2022/10/fs-entrepreneurship_selection_521920x1080.jpg
END:VEVENT
BEGIN:VEVENT
DTSTART;TZID=Europe/Berlin:20230626T100000
DTEND;TZID=Europe/Berlin:20230626T120000
DTSTAMP:20260423T183658
CREATED:20230606T105821Z
LAST-MODIFIED:20230621T123642Z
UID:1802-1687773600-1687780800@entrepreneurship-centre.fs.de
SUMMARY:Termsheet Workshop | FS Accelerator Summer '23
DESCRIPTION:Join us for an online open workshop on Termsheet Jargon & Negotiation by Philipp Weber\, Senior Partner at FPS Law. \nThis is the fourth of four workshops from our Summer Accelerator that will be open to the entire community. \nVenue: Online\nThe online link will be shared in the confirmation & reminder emails. \nQuestions?  Email us at entrepreneurship@fs.de. \nRegister Here \nDisclaimer: We hold to right to refuse any application.
URL:https://entrepreneurship-centre.fs.de/event/termsheet-fs-accelerator-summer-23/
LOCATION:Online
CATEGORIES:Accelerator
ATTACH;FMTTYPE=image/jpeg:https://entrepreneurship-centre.fs.de/wp-content/uploads/2022/10/FS_098941920x1080.jpg
END:VEVENT
BEGIN:VEVENT
DTSTART;TZID=Europe/Berlin:20230628T183000
DTEND;TZID=Europe/Berlin:20230628T220000
DTSTAMP:20260423T183658
CREATED:20230620T135224Z
LAST-MODIFIED:20240325T092717Z
UID:1879-1687977000-1687989600@entrepreneurship-centre.fs.de
SUMMARY:FS Entrepreneurship Centre is Coming to Hamburg!
DESCRIPTION:We are thrilled to nurture the entrepreneurial spirit within the entire Frankfurt School (FS) community. At the FS Entrepreneurship Centre\, we transcend borders among FS students and their geographical locations. This time\, we are delighted to visit Hamburg and connect with the vibrant community of entrepreneurial students. \nOur primary objective is to meet you in person\, hear your startup ideas\, and address any questions you may have about how we can support your entrepreneurial journey\, regardless of your distance from the central FS Campus in Frankfurt. \nIn this open event\, you can expect: \nx Presentation of the FS Entrepreneurship Centre \nx Interview with Anton Güthe\, Co-founder & Co-CEO of recarb \nx Q&A Session \nx Complimentary refreshments \nx Networking opportunities & open-end \nDate: 28 June 2023\n \nTiming: 18:30 – open end (perfect timing after your classes end) \nLanguage:English \nEveryone across FS Hamburg community is welcome! Open to students\, start-ups\, founders and beyond. \nQuestions left ? Please email Entrepreneurship@fs.de \n\n\n\n\nRegister Here \nDisclaimer: We hold to right to refuse any application.
URL:https://entrepreneurship-centre.fs.de/event/hamburg/
LOCATION:Hessen
CATEGORIES:Event
ATTACH;FMTTYPE=image/jpeg:https://entrepreneurship-centre.fs.de/wp-content/uploads/2022/10/fs-entrepreneurship_selection_541920x1080.jpg
END:VEVENT
END:VCALENDAR