BEGIN:VCALENDAR
VERSION:2.0
PRODID:-//Entrepreneurship Centre - ECPv6.15.11//NONSGML v1.0//EN
CALSCALE:GREGORIAN
METHOD:PUBLISH
X-ORIGINAL-URL:https://entrepreneurship-centre.fs.de
X-WR-CALDESC:Events for Entrepreneurship Centre
REFRESH-INTERVAL;VALUE=DURATION:PT1H
X-Robots-Tag:noindex
X-PUBLISHED-TTL:PT1H
BEGIN:VTIMEZONE
TZID:Europe/London
BEGIN:DAYLIGHT
TZOFFSETFROM:+0000
TZOFFSETTO:+0100
TZNAME:BST
DTSTART:20230326T010000
END:DAYLIGHT
BEGIN:STANDARD
TZOFFSETFROM:+0100
TZOFFSETTO:+0000
TZNAME:GMT
DTSTART:20231029T010000
END:STANDARD
BEGIN:DAYLIGHT
TZOFFSETFROM:+0000
TZOFFSETTO:+0100
TZNAME:BST
DTSTART:20240331T010000
END:DAYLIGHT
BEGIN:STANDARD
TZOFFSETFROM:+0100
TZOFFSETTO:+0000
TZNAME:GMT
DTSTART:20241027T010000
END:STANDARD
BEGIN:DAYLIGHT
TZOFFSETFROM:+0000
TZOFFSETTO:+0100
TZNAME:BST
DTSTART:20250330T010000
END:DAYLIGHT
BEGIN:STANDARD
TZOFFSETFROM:+0100
TZOFFSETTO:+0000
TZNAME:GMT
DTSTART:20251026T010000
END:STANDARD
END:VTIMEZONE
BEGIN:VEVENT
DTSTART;TZID=Europe/London:20240418T180000
DTEND;TZID=Europe/London:20240418T220000
DTSTAMP:20260423T025858
CREATED:20240329T130133Z
LAST-MODIFIED:20240503T104058Z
UID:2344-1713463200-1713477600@entrepreneurship-centre.fs.de
SUMMARY:FS Alumni & Friends in Munich by FS Entrepreneurship Centre
DESCRIPTION:“Our event in Munich\, “From Seed to Unicorns: Secrets for Successful Investments\,” at Wayra Telefónica in Munich was nothing short of spectacular! We were thrilled to see so many familiar faces and welcome new ones from Frankfurt School Alumni e.V. and Frankfurt School Entrepreneurship Centre. \nA big thank you to everyone who joined us and made the evening so memorable\, especially to Judith Georgi. The fireside chat with Lukas Bennemann provided invaluable insights into the investment landscape\, and the presentations by ZeroEx and Garentii were truly inspiring\, showcasing the potential within our startup ecosystem. \nThe energy in the room was electric\, and the networking opportunities were enriched with interesting conversations and a delicious culinary twist facilitated by the hashtag#FS startup PeopleEat that kept us all mingling happily until late in the evening.” \n-Ram Shoham\nDirector of Entrepreneurship \n \nTogether with the FS Alumni e.V.\, the FS Entrepreneurship Centre cordially invites you to the next FS Alumni & Friends Event in Munich! \nTopic: From Seed to Unicorns. Secrets for Successful Investments \nSpeaker: Lukas Bennemann\, one of Germany’s most successful investors \nTime: 18:00 – 22:00 \nLocation: WAYRA\, Kaufingerstraße 15\, 80331 Munich\, Germany \nAgenda:  \n\nOpening remarks by the FS Entrepreneurship Centre\nA fireside chat with Lukas Bennemann\, one of Germany’s most successful investors\, moderated by Ram Shoham\, Director of the Entrepreneurship Centre.\nPitch presentations from 2 FSEC portfolio startups in the ClimateTech and InsurTech/PropTech industries.\nNetworking and get-together accompanied by delightful food and drinks\, enhanced by a unique culinary experience from a private chef.
URL:https://entrepreneurship-centre.fs.de/event/fs-alumni-friends-in-munich-by-fs-entrepreneurship-centre/
LOCATION:Hessen
CATEGORIES:Past Events (Home Page Display)
ATTACH;FMTTYPE=image/jpeg:https://entrepreneurship-centre.fs.de/wp-content/uploads/2024/03/FS-AllumniFriends_DSC02950_bcc-scaled.jpg
END:VEVENT
BEGIN:VEVENT
DTSTART;TZID=Europe/London:20240424T180000
DTEND;TZID=Europe/London:20240424T200000
DTSTAMP:20260423T025858
CREATED:20240329T131720Z
LAST-MODIFIED:20240418T113014Z
UID:2351-1713981600-1713988800@entrepreneurship-centre.fs.de
SUMMARY:Product Market Fit | Workshop & Community Get-together
DESCRIPTION:Expert Talk & Community Get-together over pizza and beer 😉 \nSpeaker:  Yaron Bloch\, VP at D-ID\, a groundbreaking generative AI video company \nTheme: Product Market Fit \nDate: 24 April 2024 \nTime: 18:00 -20:00 \nLocation: FS Entrepreneurship Centre\, 4th Floor\, Tower A \nMore event details will be announced soon and shared via a reminder email. \nSee you on-site! \nREGISTER HERE
URL:https://entrepreneurship-centre.fs.de/event/product-market-fit-workshop-community-get-together/
LOCATION:Hessen
ATTACH;FMTTYPE=image/jpeg:https://entrepreneurship-centre.fs.de/wp-content/uploads/2024/03/IMG_4883-scaled.jpg
END:VEVENT
END:VCALENDAR