BEGIN:VCALENDAR
VERSION:2.0
PRODID:-//Entrepreneurship Centre - ECPv6.15.11//NONSGML v1.0//EN
CALSCALE:GREGORIAN
METHOD:PUBLISH
X-WR-CALNAME:Entrepreneurship Centre
X-ORIGINAL-URL:https://entrepreneurship-centre.fs.de
X-WR-CALDESC:Events for Entrepreneurship Centre
REFRESH-INTERVAL;VALUE=DURATION:PT1H
X-Robots-Tag:noindex
X-PUBLISHED-TTL:PT1H
BEGIN:VTIMEZONE
TZID:Europe/London
BEGIN:DAYLIGHT
TZOFFSETFROM:+0000
TZOFFSETTO:+0100
TZNAME:BST
DTSTART:20230326T010000
END:DAYLIGHT
BEGIN:STANDARD
TZOFFSETFROM:+0100
TZOFFSETTO:+0000
TZNAME:GMT
DTSTART:20231029T010000
END:STANDARD
BEGIN:DAYLIGHT
TZOFFSETFROM:+0000
TZOFFSETTO:+0100
TZNAME:BST
DTSTART:20240331T010000
END:DAYLIGHT
BEGIN:STANDARD
TZOFFSETFROM:+0100
TZOFFSETTO:+0000
TZNAME:GMT
DTSTART:20241027T010000
END:STANDARD
BEGIN:DAYLIGHT
TZOFFSETFROM:+0000
TZOFFSETTO:+0100
TZNAME:BST
DTSTART:20250330T010000
END:DAYLIGHT
BEGIN:STANDARD
TZOFFSETFROM:+0100
TZOFFSETTO:+0000
TZNAME:GMT
DTSTART:20251026T010000
END:STANDARD
END:VTIMEZONE
BEGIN:VEVENT
DTSTART;TZID=Europe/London:20240502T180000
DTEND;TZID=Europe/London:20240503T170000
DTSTAMP:20260423T013039
CREATED:20240329T133224Z
LAST-MODIFIED:20240724T145702Z
UID:2358-1714672800-1714755600@entrepreneurship-centre.fs.de
SUMMARY:Co-founder wanted 4.0 | FS x TU Darmstadt x RWTH Aachen x CODE University x hessian.AI
DESCRIPTION:The Frankfurt School Entrepreneurship Centre once again raised the bar for innovation and entrepreneurial spirit. We hosted our fourth Co-Founder Wanted (“CFW”) event\, which has now become a highlight of the entrepreneurial calendar. This two-day event brought together technical and business students in a marathon of ideation sprints. \nThis time we reached 33 groundbreaking ideas pitched\, surpassing last year’s impressive tally of 27. This increase not only reflects the growing interest and enthusiasm within our community but also highlights the vibrant potential of our participants. \nThe six top ideas were then transformed into compelling pitch decks and the teams showcased their creativity and strategic thinking\, culminating in a spirited final pitch battle. The difference between 1st (Onni Care) and 2nd (BeeSage) place was a mere 0.3 points apart. Congratulations to all the participants\, especially the winning team: Anne C. Hartmann\, Alicja Kapusta\, Sofia Ranim El Hamdi\, Dr. Nicole Maria Deutrich\, Mohit Jagwani\, Anirudha PL\, Ben Wong\, @seyed shahanshah ! \nA big gratitude goes to our friends from CODE University of Applied Sciences\, RWTH Aachen University\, Technische Universität Darmstadt\, Futury and hessian.AI for collaborating with us and bringing techies to meet the finance students. Thank you Sabine Remmert\, Dr. Chris Bonau Schmidt\, Michael Salge\, Christian Schoendeling\, Isabell Schastok\, Ufuk S. Erguen and Michael Marquardt. \nAgenda: two days event \nMay 2nd:  \n18:00 – open end  \nx Idea pitching (1min. Open Microphone to anyone). \nx Getting to know each other over light food and beer \nx Voting for top ideas \nx Picking the teams \nMay 3rd: \n9:00 – 17:00 \nx Executive presentation \nx Teambuilding Action \nx Coaching sessions \nx Workphase \nx Reflection \nx Pitch Final and Winner \nNetworking x ideas matching x drinks! 
URL:https://entrepreneurship-centre.fs.de/event/co-founder-wanted-4-0-fs-x-tu-darmstadt-x-rwth-aachen-x-code-university-x-hessian-ai/
LOCATION:Hessen
CATEGORIES:Past Events (Home Page Display)
ATTACH;FMTTYPE=image/jpeg:https://entrepreneurship-centre.fs.de/wp-content/uploads/2023/05/FS_00944.jpg
END:VEVENT
BEGIN:VEVENT
DTSTART;TZID=Europe/London:20240515T183000
DTEND;TZID=Europe/London:20240515T203000
DTSTAMP:20260423T013039
CREATED:20240507T090650Z
LAST-MODIFIED:20240507T091013Z
UID:2421-1715797800-1715805000@entrepreneurship-centre.fs.de
SUMMARY:Minimum Viable Product (MVP) | Workshop & Community Get-together
DESCRIPTION:Minimum Viable Products (MVPs): How to Turn Your Idea Into a Product \nHad a business idea for too long\, but no idea how to bring it into the market? Then this workshop is for you! \nIn this workshop and get-together\, we will: \n\nlearn about MVPs and how to create them\ncreate a simple MVP plan*\nnetwork and meet students\, alumni\, and mentors of the FSEC community!\n\n*Activities will be done in groups of 3 — bring your friends or make some new ones on-site!  \nEvent Details: \n\nDate: 15 May 2024\nTime: 18:30 – 20:30\nLocation: Entrepreneurship Centre\, 4th Floor\, Tower A\n\nSee you there! \n\nREGISTER HERE
URL:https://entrepreneurship-centre.fs.de/event/minimum-viable-product-mvp-workshop-community-get-together/
LOCATION:Hessen
ATTACH;FMTTYPE=image/jpeg:https://entrepreneurship-centre.fs.de/wp-content/uploads/2023/09/IMG_4903-scaled.jpg
END:VEVENT
END:VCALENDAR