BEGIN:VCALENDAR
VERSION:2.0
PRODID:-//Entrepreneurship Centre - ECPv6.15.11//NONSGML v1.0//EN
CALSCALE:GREGORIAN
METHOD:PUBLISH
X-WR-CALNAME:Entrepreneurship Centre
X-ORIGINAL-URL:https://entrepreneurship-centre.fs.de
X-WR-CALDESC:Events for Entrepreneurship Centre
REFRESH-INTERVAL;VALUE=DURATION:PT1H
X-Robots-Tag:noindex
X-PUBLISHED-TTL:PT1H
BEGIN:VTIMEZONE
TZID:Europe/Berlin
BEGIN:DAYLIGHT
TZOFFSETFROM:+0100
TZOFFSETTO:+0200
TZNAME:CEST
DTSTART:20230326T010000
END:DAYLIGHT
BEGIN:STANDARD
TZOFFSETFROM:+0200
TZOFFSETTO:+0100
TZNAME:CET
DTSTART:20231029T010000
END:STANDARD
BEGIN:DAYLIGHT
TZOFFSETFROM:+0100
TZOFFSETTO:+0200
TZNAME:CEST
DTSTART:20240331T010000
END:DAYLIGHT
BEGIN:STANDARD
TZOFFSETFROM:+0200
TZOFFSETTO:+0100
TZNAME:CET
DTSTART:20241027T010000
END:STANDARD
BEGIN:DAYLIGHT
TZOFFSETFROM:+0100
TZOFFSETTO:+0200
TZNAME:CEST
DTSTART:20250330T010000
END:DAYLIGHT
BEGIN:STANDARD
TZOFFSETFROM:+0200
TZOFFSETTO:+0100
TZNAME:CET
DTSTART:20251026T010000
END:STANDARD
END:VTIMEZONE
BEGIN:VTIMEZONE
TZID:Europe/London
BEGIN:DAYLIGHT
TZOFFSETFROM:+0000
TZOFFSETTO:+0100
TZNAME:BST
DTSTART:20230326T010000
END:DAYLIGHT
BEGIN:STANDARD
TZOFFSETFROM:+0100
TZOFFSETTO:+0000
TZNAME:GMT
DTSTART:20231029T010000
END:STANDARD
BEGIN:DAYLIGHT
TZOFFSETFROM:+0000
TZOFFSETTO:+0100
TZNAME:BST
DTSTART:20240331T010000
END:DAYLIGHT
BEGIN:STANDARD
TZOFFSETFROM:+0100
TZOFFSETTO:+0000
TZNAME:GMT
DTSTART:20241027T010000
END:STANDARD
BEGIN:DAYLIGHT
TZOFFSETFROM:+0000
TZOFFSETTO:+0100
TZNAME:BST
DTSTART:20250330T010000
END:DAYLIGHT
BEGIN:STANDARD
TZOFFSETFROM:+0100
TZOFFSETTO:+0000
TZNAME:GMT
DTSTART:20251026T010000
END:STANDARD
END:VTIMEZONE
BEGIN:VEVENT
DTSTART;TZID=Europe/Berlin:20241106T183000
DTEND;TZID=Europe/Berlin:20241106T203000
DTSTAMP:20260422T162900
CREATED:20241021T134941Z
LAST-MODIFIED:20241021T135224Z
UID:2711-1730917800-1730925000@entrepreneurship-centre.fs.de
SUMMARY:Funding and What Investors Expect to See | Workshop & Community get-together
DESCRIPTION:Theme: Funding and What Investors Expect to See \n\n\n\n\nAs you start your entrepreneurial journey we will focus on early stage startups. These are the vital points we will discuss.\n\n\nProblem / Solution – good investors are seeking founders who have identified very big problems with billion euro markets.\nWhich Investor? – your investor should become a key part of creating traction. Understand who they are and how to find them.\nGood Pitch Decks and Being Resilient – A good pitch deck is both simple and inspiring. Investors are excited by a clear Problem/Solution and teams led by resilient founders.\n\n\nEvent Details: \n\nDate: 6 November 2024\nTime: 18:30 – 20:30\nSpeaker: Garan Goodmann\, Managing Director and Coach \nLocation: Entrepreneurship Centre\, 4th Floor\, Tower A\n\n\n\n\n\nSee you on-site. \nPizza & beer are on us 😉 \nQuestions left? Email at Entrepreneurship@fs.de \nREGISTER
URL:https://entrepreneurship-centre.fs.de/event/funding-and-what-investors-expect-to-see-workshop-community-get-together/
LOCATION:Entrepreneurship Centre\, Adickesallee 32-34\, Frankfurt am Main\, Hessen\, 60322
CATEGORIES:Event
ATTACH;FMTTYPE=image/jpeg:https://entrepreneurship-centre.fs.de/wp-content/uploads/2024/06/FS_07578-scaled.jpg
END:VEVENT
BEGIN:VEVENT
DTSTART;TZID=Europe/London:20241107T180000
DTEND;TZID=Europe/London:20241108T170000
DTSTAMP:20260422T162900
CREATED:20240923T142411Z
LAST-MODIFIED:20250311T121110Z
UID:2674-1731002400-1731085200@entrepreneurship-centre.fs.de
SUMMARY:Co-founder wanted 5.0 | Frankfurt School x TU Darmstadt x RWTH Aachen x CODE Berlin x hessian.AI x more network partners
DESCRIPTION:The 5th Edition of the Co-founder wanted event by Frankfurt School Entrepreneurship Centre! \nThis event is your opportunity to find your perfect match. Are you looking for a business mind to join your team? Or are you in search of a talented coder to develop the back-end for an App? This event is for you! \nJoin us on-site and pitch your idea to the audience. \nNot ready to pitch your idea but looking for a team to join? Register now and find your future co-founders in the crowd. \nMore event details will be announced shortly via our social media channels and the Reminder email nearer the event date. \nAgenda: two days event \nNovember 7th:  \n18:00 – open end  \nx Idea pitching (1min. Open Microphone to anyone). \nx Getting to know each other over light food and beer \nx Voting for top ideas \nx Picking the teams \nNovember 8th:  \n9:00 – 17:00 \nx Executive presentation \nx Teambuilding Action \nx Coaching sessions \nx Workphase \nx Reflection \nx Pitch Final and Winner \nNetworking x ideas matching x drinks!  \n  \nLocation: Frankfurt School\, Entrepreneurship Centre\, 4th Floor\, Tower A \nAdickesallee 32-34\, 60322 Frankfurt am Main \n  \n  \nEVENT IN HIGHLIGHTS:  \nNo idea is too wild—sometimes\, the craziest ideas end up being the most brilliant.  \nCheckout one of the ideas pitched by Ivan Klimenkov\, who entertained us with Supershower! This was just one of 33 ideas 🚀🚀🚀 pitched at the latest Co-Founder Wanted 5.0 event hosted by the Frankfurt School Entrepreneurship Centre at Frankfurt School of Finance & Management last week!  \nSix top teams were selected\, followed by 2 intense days of work to develop pitch decks from scratch\, culminating in 1 final winning team. \nA huge thank you to our partner universities and networks: hessian.AI\, HIGHEST – Innovations- und Gründungszentrum\, CODE University of Applied Sciences\, RWTH Innovation and all the network partners. Special thanks to our mentors who joined us during this two-day event: Garan Goodman Dr. Chris Bonau Schmidt Jessica Retzlaff Maria Pennanen Isabell Schastok\, 🌱🚀 Gowtham Athem and Michael Marquardt. \n👏 A big round of applause goes to the winning team – Apply Ease. Tobias BleiwerkYaqing WeiShreeya Prakash Alexander MoshchevHenri SiepmannRanja Chrys Rakotomahanina \nWe are looking forward to the next edition of the Co-Founder Wanted event and to the next cohort of universities joining us on this journey to found future winning teams! \nREGISTER
URL:https://entrepreneurship-centre.fs.de/event/co-founder-wanted-5-0-frankfurt-school-x-german-technical-universities/
LOCATION:Hessen
ATTACH;FMTTYPE=image/jpeg:https://entrepreneurship-centre.fs.de/wp-content/uploads/2024/03/S1.01-13.jpg
END:VEVENT
END:VCALENDAR