BEGIN:VCALENDAR
VERSION:2.0
PRODID:-//Entrepreneurship Centre - ECPv6.15.11//NONSGML v1.0//EN
CALSCALE:GREGORIAN
METHOD:PUBLISH
X-ORIGINAL-URL:https://entrepreneurship-centre.fs.de
X-WR-CALDESC:Events for Entrepreneurship Centre
REFRESH-INTERVAL;VALUE=DURATION:PT1H
X-Robots-Tag:noindex
X-PUBLISHED-TTL:PT1H
BEGIN:VTIMEZONE
TZID:Europe/London
BEGIN:DAYLIGHT
TZOFFSETFROM:+0000
TZOFFSETTO:+0100
TZNAME:BST
DTSTART:20250330T010000
END:DAYLIGHT
BEGIN:STANDARD
TZOFFSETFROM:+0100
TZOFFSETTO:+0000
TZNAME:GMT
DTSTART:20251026T010000
END:STANDARD
BEGIN:DAYLIGHT
TZOFFSETFROM:+0000
TZOFFSETTO:+0100
TZNAME:BST
DTSTART:20260329T010000
END:DAYLIGHT
BEGIN:STANDARD
TZOFFSETFROM:+0100
TZOFFSETTO:+0000
TZNAME:GMT
DTSTART:20261025T010000
END:STANDARD
BEGIN:DAYLIGHT
TZOFFSETFROM:+0000
TZOFFSETTO:+0100
TZNAME:BST
DTSTART:20270328T010000
END:DAYLIGHT
BEGIN:STANDARD
TZOFFSETFROM:+0100
TZOFFSETTO:+0000
TZNAME:GMT
DTSTART:20271031T010000
END:STANDARD
END:VTIMEZONE
BEGIN:VEVENT
DTSTART;TZID=Europe/London:20260121T170000
DTEND;TZID=Europe/London:20260121T183000
DTSTAMP:20260421T182055
CREATED:20251216T140202Z
LAST-MODIFIED:20251217T144029Z
UID:3204-1769014800-1769020200@entrepreneurship-centre.fs.de
SUMMARY:Scrum & Flow Fundamentals: A Beginner's Guide | Open Workshops\,  Accelerator Winter 26
DESCRIPTION:Date: 21 January 2026 \nTime: 17:00 – 18:30 \nFormat: Hybrid (FSEC & Online) \nSpeaker: Ali Naderivarandi\, Scrum Master \nKick-start your Agile journey with this beginner-friendly\, hands-on workshop designed for participants with no prior knowledge of Scrum\, Agile\, or Lean. \nThrough simple explanations\, interactive discussions\, and a practical Kanban simulation\, participants will experience how modern teams organise work\, collaborate effectively\, and deliver value. \nThis session is ideal for students\, early-stage founders\, and anyone curious about Agile ways of working in business and startups. \nWhat will you learn?  \n*Scrum fundamentals: learn the core Scrum roles\, events\, and artefacts in a clear\, jargon-free way. \n*Flow & Kanban basics: understand Work in Progress (WIP)\, prioritisation\, and resource management through an interactive simulation. \n*Learning by doing: experience teamwork\, decision-making\, and flow improvement in a practical and engaging format \nWhy attend?  \nThis interactive workshop builds a strong foundation for understanding Agile principles and provides practical insights you can apply immediately\, whether in a startup\, project team\, or business environment. \nQuestions left? Email at Entrepreneurship@fs.de  \nREGISTER HERE
URL:https://entrepreneurship-centre.fs.de/event/scrum-flow-fundamentals-a-beginners-guide-open-workshops-accelerator-winter-26/
LOCATION:Hybrid
ATTACH;FMTTYPE=image/jpeg:https://entrepreneurship-centre.fs.de/wp-content/uploads/2022/10/DSC072101920x1080.jpg
END:VEVENT
BEGIN:VEVENT
DTSTART;TZID=Europe/London:20260127T170000
DTEND;TZID=Europe/London:20260127T183000
DTSTAMP:20260421T182055
CREATED:20260121T124054Z
LAST-MODIFIED:20260123T134940Z
UID:3239-1769533200-1769538600@entrepreneurship-centre.fs.de
SUMMARY:Financial Planning and Cap Tables | Open Workshops\,  Accelerator Winter 26
DESCRIPTION:Accelerator Winter 2026: Open Workshops \n​Date: 27 January 2026 \n​Time: 17:00 – 18:30  \n​Format: Hybrid (Online & FSEC\, 1st Floor\, Presidialbau\, Frankfurt School) – if you attend online\, you will receive a link in a reminder email \n​Speaker: Andreas Hell\, Startup Finance and Fundraising Expert \n​Get ready to unlock the secrets to crafting a financial plan that will impress VCs and investors. This workshop will provide you with essential tips and insights on how to build a winning financial plan for your startup. You will learn how to set clear growth goals\, define the right business model\, identify critical KPIs\, gather essential data\, master the art of financial modeling\, structure your financial plan\, manage operating costs\, build realistic scenarios\, understand the impact of assumptions\, and present with confidence. Join us to learn directly from Andreas Hell\, alumni of FS\, who raised multiple rounds of funding for startups and helped shape their finance function as CFO. \nQuestions left? Email at Entrepreneurship@fs.de \n\n\n\nREGISTER HERE
URL:https://entrepreneurship-centre.fs.de/event/financial-planning-and-cap-tables-open-workshops-accelerator-winter-26/
LOCATION:Hybrid
ATTACH;FMTTYPE=image/jpeg:https://entrepreneurship-centre.fs.de/wp-content/uploads/2026/01/FS_3827-scaled.jpg
END:VEVENT
BEGIN:VEVENT
DTSTART;TZID=Europe/London:20260129T170000
DTEND;TZID=Europe/London:20260129T183000
DTSTAMP:20260421T182055
CREATED:20251217T114855Z
LAST-MODIFIED:20251217T144057Z
UID:3230-1769706000-1769711400@entrepreneurship-centre.fs.de
SUMMARY:Negotiating a VC Term Sheet | Open Workshops\,  Accelerator Winter 26
DESCRIPTION:Date: 29 January 2026 \nTime: 17:00 – 18:30 \nFormat: Hybrid  \nSpeaker: Philipp Weber\, Partner at Momentum Partners \nNavigating a VC term sheet can feel like walking through a maze of fine print\, complex clauses\, and hidden traps—but it doesn’t have to be that way. \nIn this exclusive workshop\, Philipp Weber\, Partner at Momentum Partners\, breaks down investor term sheets and explains how founders can approach negotiations with clarity and confidence. You’ll learn what key clauses really mean\, which terms can become deal-breakers\, and how to negotiate outcomes that protect your vision while strengthening your startup’s long-term potential. \nThis session is especially valuable for founders preparing for their first fundraising round or gearing up for a Series A. \nWhat You’ll Learn:  \n\nTerm sheet fundamentalsUnderstand the structure and purpose of the most common VC clauses.\nNegotiation prioritiesIdentify which terms truly matter and where flexibility is possible.\nFounder protectionLearn how to safeguard control\, incentives\, and long-term value.\nInvestor perspectiveGain insights into how VCs think and negotiate.\n\nWhy Attend? \nThis workshop equips founders with practical knowledge and insider insights to enter VC negotiations well-prepared\, confident\, and aligned with their strategic goals. \nQuestions left? Email at Entrepreneurship@fs.de \nREGISTER HERE
URL:https://entrepreneurship-centre.fs.de/event/negotiating-a-vc-term-sheet-open-workshops-accelerator-winter-26/
LOCATION:Hybrid
ATTACH;FMTTYPE=image/jpeg:https://entrepreneurship-centre.fs.de/wp-content/uploads/2024/07/FS_06730.jpg
END:VEVENT
END:VCALENDAR